BEGIN:VCALENDAR
VERSION:2.0
PRODID:-//Coromandel Community Associations - ECPv6.13.2.1//NONSGML v1.0//EN
CALSCALE:GREGORIAN
METHOD:PUBLISH
X-WR-CALNAME:Coromandel Community Associations
X-ORIGINAL-URL:https://www.coromandelweb.com
X-WR-CALDESC:Events for Coromandel Community Associations
REFRESH-INTERVAL;VALUE=DURATION:PT1H
X-Robots-Tag:noindex
X-PUBLISHED-TTL:PT1H
BEGIN:VTIMEZONE
TZID:America/Chicago
BEGIN:DAYLIGHT
TZOFFSETFROM:-0600
TZOFFSETTO:-0500
TZNAME:CDT
DTSTART:20240310T080000
END:DAYLIGHT
BEGIN:STANDARD
TZOFFSETFROM:-0500
TZOFFSETTO:-0600
TZNAME:CST
DTSTART:20241103T070000
END:STANDARD
END:VTIMEZONE
BEGIN:VEVENT
DTSTART;VALUE=DATE:20240902
DTEND;VALUE=DATE:20240903
DTSTAMP:20260424T141234
CREATED:20240318T143516Z
LAST-MODIFIED:20240318T144702Z
UID:2199-1725235200-1725321599@www.coromandelweb.com
SUMMARY:Coromandel Management Office Closed
DESCRIPTION:The Coromandel Management Office will be closed for the Labor Day Holiday on Monday\, September 2\, 2024. The office will re-open on Tuesday\, September 3\, 2024 at 8:30AM.
URL:https://www.coromandelweb.com/event/coromandel-management-office-closed-5/
END:VEVENT
BEGIN:VEVENT
DTSTART;VALUE=DATE:20240907
DTEND;VALUE=DATE:20240908
DTSTAMP:20260424T141234
CREATED:20240829T153037Z
LAST-MODIFIED:20240829T153037Z
UID:2354-1725667200-1725753599@www.coromandelweb.com
SUMMARY:PRIVATE CLUBHOUSE RESERVATION
DESCRIPTION:The clubhouse party room will not be available for use due to a private clubhouse reservation on Saturday\, September 7\, 2024.
URL:https://www.coromandelweb.com/event/private-clubhouse-reservation-29/
END:VEVENT
BEGIN:VEVENT
DTSTART;TZID=America/Chicago:20240929T150000
DTEND;TZID=America/Chicago:20240929T170000
DTSTAMP:20260424T141234
CREATED:20240910T184328Z
LAST-MODIFIED:20240910T184328Z
UID:2363-1727622000-1727629200@www.coromandelweb.com
SUMMARY:PRIVATE CLUBHOUSE RESERVATION
DESCRIPTION:The clubhouse party room will not be available for use due to a private clubhouse reservation on Sunday\, September 29\, 2024 from 3:00PM – 5:00PM. Additionally\, the South parking lot\, next to the Clubhouse Party Room will also be unavailable during this time.
URL:https://www.coromandelweb.com/event/private-clubhouse-reservation-31/
END:VEVENT
END:VCALENDAR