BEGIN:VCALENDAR
VERSION:2.0
PRODID:-//Coromandel Community Associations - ECPv6.13.2.1//NONSGML v1.0//EN
CALSCALE:GREGORIAN
METHOD:PUBLISH
X-ORIGINAL-URL:https://www.coromandelweb.com
X-WR-CALDESC:Events for Coromandel Community Associations
REFRESH-INTERVAL;VALUE=DURATION:PT1H
X-Robots-Tag:noindex
X-PUBLISHED-TTL:PT1H
BEGIN:VTIMEZONE
TZID:America/Chicago
BEGIN:DAYLIGHT
TZOFFSETFROM:-0600
TZOFFSETTO:-0500
TZNAME:CDT
DTSTART:20240310T080000
END:DAYLIGHT
BEGIN:STANDARD
TZOFFSETFROM:-0500
TZOFFSETTO:-0600
TZNAME:CST
DTSTART:20241103T070000
END:STANDARD
END:VTIMEZONE
BEGIN:VEVENT
DTSTART;VALUE=DATE:20241117
DTEND;VALUE=DATE:20241118
DTSTAMP:20260424T110103
CREATED:20240829T153109Z
LAST-MODIFIED:20240829T153109Z
UID:2356-1731801600-1731887999@www.coromandelweb.com
SUMMARY:PRIVATE CLUBHOUSE RESERVATION
DESCRIPTION:The clubhouse party room will not be available for use due to a private clubhouse reservation on Sunday\, November 17\, 2024.
URL:https://www.coromandelweb.com/event/private-clubhouse-reservation-30/
END:VEVENT
BEGIN:VEVENT
DTSTART;VALUE=DATE:20241128
DTEND;VALUE=DATE:20241130
DTSTAMP:20260424T110103
CREATED:20240930T182732Z
LAST-MODIFIED:20240930T182732Z
UID:2372-1732752000-1732924799@www.coromandelweb.com
SUMMARY:Management Offices Closed
DESCRIPTION:The Coromandel and Braeside Management Offices will be closed due to the Thanksgiving Holiday beginning on Thursday\, November 28\, 2024 through Friday\, November 29\, 2024. \nThe Management offices will be reopened on Monday\, December 2\, 2024 at 8:30AM. \nHave a very Happy Thanksgiving! Gobble Gobble!
URL:https://www.coromandelweb.com/event/management-offices-closed/
END:VEVENT
END:VCALENDAR