BEGIN:VCALENDAR
VERSION:2.0
PRODID:-//Coromandel Community Associations - ECPv6.13.2.1//NONSGML v1.0//EN
CALSCALE:GREGORIAN
METHOD:PUBLISH
X-WR-CALNAME:Coromandel Community Associations
X-ORIGINAL-URL:https://www.coromandelweb.com
X-WR-CALDESC:Events for Coromandel Community Associations
REFRESH-INTERVAL;VALUE=DURATION:PT1H
X-Robots-Tag:noindex
X-PUBLISHED-TTL:PT1H
BEGIN:VTIMEZONE
TZID:America/Chicago
BEGIN:DAYLIGHT
TZOFFSETFROM:-0600
TZOFFSETTO:-0500
TZNAME:CDT
DTSTART:20240310T080000
END:DAYLIGHT
BEGIN:STANDARD
TZOFFSETFROM:-0500
TZOFFSETTO:-0600
TZNAME:CST
DTSTART:20241103T070000
END:STANDARD
BEGIN:DAYLIGHT
TZOFFSETFROM:-0600
TZOFFSETTO:-0500
TZNAME:CDT
DTSTART:20250309T080000
END:DAYLIGHT
BEGIN:STANDARD
TZOFFSETFROM:-0500
TZOFFSETTO:-0600
TZNAME:CST
DTSTART:20251102T070000
END:STANDARD
END:VTIMEZONE
BEGIN:VEVENT
DTSTART;VALUE=DATE:20241208
DTEND;VALUE=DATE:20241209
DTSTAMP:20260424T092848
CREATED:20241210T163618Z
LAST-MODIFIED:20241210T163618Z
UID:2532-1733616000-1733702399@www.coromandelweb.com
SUMMARY:PRIVATE CLUBHOUSE RESERVATION
DESCRIPTION:The clubhouse party room will not be available for use due to a private clubhouse reservation on Sunday\, December 8\, 2024.
URL:https://www.coromandelweb.com/event/private-clubhouse-reservation-33/
END:VEVENT
BEGIN:VEVENT
DTSTART;TZID=America/Chicago:20241211T150000
DTEND;TZID=America/Chicago:20241211T230000
DTSTAMP:20260424T092848
CREATED:20241210T163921Z
LAST-MODIFIED:20241210T172745Z
UID:2534-1733929200-1733958000@www.coromandelweb.com
SUMMARY:PRIVATE CLUBHOUSE RESERVATION
DESCRIPTION:The clubhouse party room will not be available for use due to a private clubhouse reservation on Wednesday\, December 11\, 2024 from 3:00PM to 11:00PM
URL:https://www.coromandelweb.com/event/private-clubhouse-reservation-34/
END:VEVENT
BEGIN:VEVENT
DTSTART;TZID=America/Chicago:20241212T153000
DTEND;TZID=America/Chicago:20241212T170000
DTSTAMP:20260424T092848
CREATED:20241104T164040Z
LAST-MODIFIED:20241210T165519Z
UID:2504-1734017400-1734022800@www.coromandelweb.com
SUMMARY:Management Office Closed Early
DESCRIPTION:Coromandel Management Office will be closing early at 3:30PM today\, December 12\, 2024 for Braeside Management Holiday Party.
URL:https://www.coromandelweb.com/event/management-office-closed-early/
END:VEVENT
BEGIN:VEVENT
DTSTART;TZID=America/Chicago:20241217T153000
DTEND;TZID=America/Chicago:20241217T220000
DTSTAMP:20260424T092848
CREATED:20241104T163825Z
LAST-MODIFIED:20241216T153435Z
UID:2502-1734449400-1734472800@www.coromandelweb.com
SUMMARY:Clubhouse Reservation
DESCRIPTION:Clubhouse Reserved from 3:30PM – 10:00PM for Condo Holiday Party. \n*More Details to Come* \n**This is not an Association Sponsored Event**
URL:https://www.coromandelweb.com/event/clubhouse-reservation/
END:VEVENT
BEGIN:VEVENT
DTSTART;TZID=America/Chicago:20241217T163000
DTEND;TZID=America/Chicago:20241217T170000
DTSTAMP:20260424T092848
CREATED:20241104T164151Z
LAST-MODIFIED:20241104T164314Z
UID:2506-1734453000-1734454800@www.coromandelweb.com
SUMMARY:Management Office Closed Early
DESCRIPTION:The Coromandel Management Office will be closing early at 4:30PM for a Braeside Executive’s Retirement Celebration.
URL:https://www.coromandelweb.com/event/management-office-closed-early-2/
END:VEVENT
BEGIN:VEVENT
DTSTART;VALUE=DATE:20241224
DTEND;VALUE=DATE:20241226
DTSTAMP:20260424T092848
CREATED:20241210T164732Z
LAST-MODIFIED:20241210T165440Z
UID:2540-1734998400-1735171199@www.coromandelweb.com
SUMMARY:Management Offices Closed
DESCRIPTION:The Coromandel and Braeside Management Offices will be closed due to the Christmas & Hanukkah Holidays beginning on Tuesday\, December 24\, 2024 at 12:00PM through Wednesday\, December 25\, 2024. \nThe Management offices will be reopened on Thursday\, December 26\, 2024 at 8:30AM. \nHave a very Merry Christmas & Happy Hanukkah! \n \n& \n \n  \n 
URL:https://www.coromandelweb.com/event/management-offices-closed-2/
END:VEVENT
BEGIN:VEVENT
DTSTART;VALUE=DATE:20241229
DTEND;VALUE=DATE:20241230
DTSTAMP:20260424T092848
CREATED:20241210T164005Z
LAST-MODIFIED:20241210T164005Z
UID:2536-1735430400-1735516799@www.coromandelweb.com
SUMMARY:PRIVATE CLUBHOUSE RESERVATION
DESCRIPTION:The clubhouse party room will not be available for use due to a private clubhouse reservation on Sunday\, December 29\, 2024.
URL:https://www.coromandelweb.com/event/private-clubhouse-reservation-35/
END:VEVENT
BEGIN:VEVENT
DTSTART;VALUE=DATE:20241231
DTEND;VALUE=DATE:20250102
DTSTAMP:20260424T092848
CREATED:20241210T164908Z
LAST-MODIFIED:20241210T164908Z
UID:2542-1735603200-1735775999@www.coromandelweb.com
SUMMARY:Management Offices Closed
DESCRIPTION:The Coromandel and Braeside Management Offices will be closed due to the Christmas Holiday beginning on Tuesday\, December 31\, 2024 at 12:00PM through Wednesday\, January 1\, 2025. \nThe Management offices will be reopened on Thursday\, January 2\, 2025 at 8:30AM. \nHave a Happy\, Healthy New Year!
URL:https://www.coromandelweb.com/event/management-offices-closed-3/
END:VEVENT
END:VCALENDAR