BEGIN:VCALENDAR
VERSION:2.0
PRODID:-//Coromandel Community Associations - ECPv6.13.2.1//NONSGML v1.0//EN
CALSCALE:GREGORIAN
METHOD:PUBLISH
X-ORIGINAL-URL:https://www.coromandelweb.com
X-WR-CALDESC:Events for Coromandel Community Associations
REFRESH-INTERVAL;VALUE=DURATION:PT1H
X-Robots-Tag:noindex
X-PUBLISHED-TTL:PT1H
BEGIN:VTIMEZONE
TZID:America/Chicago
BEGIN:DAYLIGHT
TZOFFSETFROM:-0600
TZOFFSETTO:-0500
TZNAME:CDT
DTSTART:20240310T080000
END:DAYLIGHT
BEGIN:STANDARD
TZOFFSETFROM:-0500
TZOFFSETTO:-0600
TZNAME:CST
DTSTART:20241103T070000
END:STANDARD
BEGIN:DAYLIGHT
TZOFFSETFROM:-0600
TZOFFSETTO:-0500
TZNAME:CDT
DTSTART:20250309T080000
END:DAYLIGHT
BEGIN:STANDARD
TZOFFSETFROM:-0500
TZOFFSETTO:-0600
TZNAME:CST
DTSTART:20251102T070000
END:STANDARD
END:VTIMEZONE
BEGIN:VEVENT
DTSTART;VALUE=DATE:20241231
DTEND;VALUE=DATE:20250102
DTSTAMP:20260424T075120
CREATED:20241210T164908Z
LAST-MODIFIED:20241210T164908Z
UID:2542-1735603200-1735775999@www.coromandelweb.com
SUMMARY:Management Offices Closed
DESCRIPTION:The Coromandel and Braeside Management Offices will be closed due to the Christmas Holiday beginning on Tuesday\, December 31\, 2024 at 12:00PM through Wednesday\, January 1\, 2025. \nThe Management offices will be reopened on Thursday\, January 2\, 2025 at 8:30AM. \nHave a Happy\, Healthy New Year!
URL:https://www.coromandelweb.com/event/management-offices-closed-3/
END:VEVENT
BEGIN:VEVENT
DTSTART;TZID=America/Chicago:20250103T140000
DTEND;TZID=America/Chicago:20250103T230000
DTSTAMP:20260424T075120
CREATED:20241210T165255Z
LAST-MODIFIED:20250103T150001Z
UID:2547-1735912800-1735945200@www.coromandelweb.com
SUMMARY:PRIVATE CLUBHOUSE RESERVATION
DESCRIPTION:The clubhouse party room will not be available for use due to a private clubhouse reservation on Friday\, January 3\, 2025 from 4:00PM – 11:00PM.
URL:https://www.coromandelweb.com/event/private-clubhouse-reservation-37/
END:VEVENT
BEGIN:VEVENT
DTSTART;TZID=America/Chicago:20250110T124500
DTEND;TZID=America/Chicago:20250110T143000
DTSTAMP:20260424T075120
CREATED:20250106T154318Z
LAST-MODIFIED:20250106T154318Z
UID:2558-1736513100-1736519400@www.coromandelweb.com
SUMMARY:Management Office Closed
DESCRIPTION:Management office closed for meeting at Braeside Corporate office on Friday\, January 10\, 2025 from 12:45pm to (approx.) 2:30pm.
URL:https://www.coromandelweb.com/event/management-office-closed-2/
END:VEVENT
BEGIN:VEVENT
DTSTART;VALUE=DATE:20250111
DTEND;VALUE=DATE:20250112
DTSTAMP:20260424T075120
CREATED:20241210T164036Z
LAST-MODIFIED:20241210T164036Z
UID:2538-1736553600-1736639999@www.coromandelweb.com
SUMMARY:PRIVATE CLUBHOUSE RESERVATION
DESCRIPTION:The clubhouse party room will not be available for use due to a private clubhouse reservation on Saturday\, January 11\, 2025.
URL:https://www.coromandelweb.com/event/private-clubhouse-reservation-36/
END:VEVENT
BEGIN:VEVENT
DTSTART;TZID=America/Chicago:20250114T183000
DTEND;TZID=America/Chicago:20250114T193000
DTSTAMP:20260424T075120
CREATED:20250103T150243Z
LAST-MODIFIED:20250103T150243Z
UID:2552-1736879400-1736883000@www.coromandelweb.com
SUMMARY:Townhome BOD Meeting
DESCRIPTION:Townhome Association Board of Directors Meeting will be held via Zoom. \nPlease refer to the Board Meeting Calendar and look for e-mail blasts sent out the week of and day for call and notices and for the Zoom link.
URL:https://www.coromandelweb.com/event/townhome-bod-meeting-2/
END:VEVENT
BEGIN:VEVENT
DTSTART;TZID=America/Chicago:20250121T183000
DTEND;TZID=America/Chicago:20250121T193000
DTSTAMP:20260424T075120
CREATED:20250103T150330Z
LAST-MODIFIED:20250103T150330Z
UID:2554-1737484200-1737487800@www.coromandelweb.com
SUMMARY:Condo BOD Meeting
DESCRIPTION:Condo Association Board of Directors Meeting will be held via Zoom. \nPlease refer to the Board Meeting Calendar and look for e-mail blasts sent out the week of and day for call and notices and for the Zoom link.
URL:https://www.coromandelweb.com/event/condo-bod-meeting-2/
END:VEVENT
BEGIN:VEVENT
DTSTART;TZID=America/Chicago:20250124T103000
DTEND;TZID=America/Chicago:20250124T200000
DTSTAMP:20260424T075120
CREATED:20250124T160420Z
LAST-MODIFIED:20250124T160420Z
UID:2578-1737714600-1737748800@www.coromandelweb.com
SUMMARY:PRIVATE CLUBHOUSE RESERVATION
DESCRIPTION:The clubhouse party room will not be available for use due to a private clubhouse reservation on Friday\, January 24\, 2025.
URL:https://www.coromandelweb.com/event/private-clubhouse-reservation-38/
END:VEVENT
BEGIN:VEVENT
DTSTART;VALUE=DATE:20250125
DTEND;VALUE=DATE:20250126
DTSTAMP:20260424T075120
CREATED:20250124T160332Z
LAST-MODIFIED:20250124T160342Z
UID:2575-1737763200-1737849599@www.coromandelweb.com
SUMMARY:PRIVATE CLUBHOUSE RESERVATION
DESCRIPTION:The clubhouse party room will not be available for use due to a private clubhouse reservation on Saturday\, January 25\, 2025.
URL:https://www.coromandelweb.com/event/2575/
END:VEVENT
BEGIN:VEVENT
DTSTART;TZID=America/Chicago:20250128T183000
DTEND;TZID=America/Chicago:20250128T193000
DTSTAMP:20260424T075120
CREATED:20250103T150416Z
LAST-MODIFIED:20250103T150416Z
UID:2556-1738089000-1738092600@www.coromandelweb.com
SUMMARY:Umbrella BOD Meeting
DESCRIPTION:Umbrella Association Board of Directors Meeting will be held via Zoom. \nPlease refer to the Board Meeting Calendar and look for e-mail blasts sent out the week of and day for call and notices and for the Zoom link.
URL:https://www.coromandelweb.com/event/umbrella-bod-meeting/
END:VEVENT
END:VCALENDAR