BEGIN:VCALENDAR
VERSION:2.0
PRODID:-//Coromandel Community Associations - ECPv6.13.2.1//NONSGML v1.0//EN
CALSCALE:GREGORIAN
METHOD:PUBLISH
X-ORIGINAL-URL:https://www.coromandelweb.com
X-WR-CALDESC:Events for Coromandel Community Associations
REFRESH-INTERVAL;VALUE=DURATION:PT1H
X-Robots-Tag:noindex
X-PUBLISHED-TTL:PT1H
BEGIN:VTIMEZONE
TZID:America/Chicago
BEGIN:DAYLIGHT
TZOFFSETFROM:-0600
TZOFFSETTO:-0500
TZNAME:CDT
DTSTART:20250309T080000
END:DAYLIGHT
BEGIN:STANDARD
TZOFFSETFROM:-0500
TZOFFSETTO:-0600
TZNAME:CST
DTSTART:20251102T070000
END:STANDARD
END:VTIMEZONE
BEGIN:VEVENT
DTSTART;TZID=America/Chicago:20250311T183000
DTEND;TZID=America/Chicago:20250311T193000
DTSTAMP:20260424T050339
CREATED:20250320T220409Z
LAST-MODIFIED:20250320T220409Z
UID:2605-1741717800-1741721400@www.coromandelweb.com
SUMMARY:Townhome BOD Meeting
DESCRIPTION:Townhome Association Board of Directors Meeting will be held via Zoom. \nPlease refer to the Board Meeting Calendar and look for e-mail blasts sent out the week of and day for call and notices and for the Zoom link.
URL:https://www.coromandelweb.com/event/townhome-bod-meeting-3/
END:VEVENT
BEGIN:VEVENT
DTSTART;VALUE=DATE:20250315
DTEND;VALUE=DATE:20250316
DTSTAMP:20260424T050339
CREATED:20250113T171926Z
LAST-MODIFIED:20250113T171926Z
UID:2560-1741996800-1742083199@www.coromandelweb.com
SUMMARY:PRIVATE CLUBHOUSE RESVERATION
DESCRIPTION:The clubhouse party room will not be available for use due to a private clubhouse reservation on Saturday\, March 15\, 2025.
URL:https://www.coromandelweb.com/event/private-clubhouse-resveration/
END:VEVENT
BEGIN:VEVENT
DTSTART;TZID=America/Chicago:20250318T183000
DTEND;TZID=America/Chicago:20250318T193000
DTSTAMP:20260424T050339
CREATED:20250320T220330Z
LAST-MODIFIED:20250320T220330Z
UID:2603-1742322600-1742326200@www.coromandelweb.com
SUMMARY:Condo BOD Meeting
DESCRIPTION:Condo Association Board of Directors Meeting will be held via Zoom. \nPlease refer to the Board Meeting Calendar and look for e-mail blasts sent out the week of and day for call and notices and for the Zoom link.
URL:https://www.coromandelweb.com/event/condo-bod-meeting-3/
END:VEVENT
END:VCALENDAR