BEGIN:VCALENDAR
VERSION:2.0
PRODID:-//Coromandel Community Associations - ECPv6.13.2.1//NONSGML v1.0//EN
CALSCALE:GREGORIAN
METHOD:PUBLISH
X-WR-CALNAME:Coromandel Community Associations
X-ORIGINAL-URL:https://www.coromandelweb.com
X-WR-CALDESC:Events for Coromandel Community Associations
REFRESH-INTERVAL;VALUE=DURATION:PT1H
X-Robots-Tag:noindex
X-PUBLISHED-TTL:PT1H
BEGIN:VTIMEZONE
TZID:America/Chicago
BEGIN:DAYLIGHT
TZOFFSETFROM:-0600
TZOFFSETTO:-0500
TZNAME:CDT
DTSTART:20250309T080000
END:DAYLIGHT
BEGIN:STANDARD
TZOFFSETFROM:-0500
TZOFFSETTO:-0600
TZNAME:CST
DTSTART:20251102T070000
END:STANDARD
END:VTIMEZONE
BEGIN:VEVENT
DTSTART;VALUE=DATE:20250504
DTEND;VALUE=DATE:20250505
DTSTAMP:20260424T015649
CREATED:20250314T202129Z
LAST-MODIFIED:20250318T142037Z
UID:2593-1746316800-1746403199@www.coromandelweb.com
SUMMARY:PRIVATE CLUBHOUSE RESERVATION
DESCRIPTION:The clubhouse party room will not be available for use due to a private clubhouse reservation on Sunday\, May 4\, 2025.
URL:https://www.coromandelweb.com/event/private-clubhouse-reservation-39/
END:VEVENT
BEGIN:VEVENT
DTSTART;TZID=America/Chicago:20250513T183000
DTEND;TZID=America/Chicago:20250513T193000
DTSTAMP:20260424T015649
CREATED:20250320T220455Z
LAST-MODIFIED:20250320T220455Z
UID:2607-1747161000-1747164600@www.coromandelweb.com
SUMMARY:Townhome BOD Meeting
DESCRIPTION:Townhome Association Board of Directors Meeting will be held via Zoom. \nPlease refer to the Board Meeting Calendar and look for e-mail blasts sent out the week of and day for call and notices and for the Zoom link.
URL:https://www.coromandelweb.com/event/townhome-bod-meeting-4/
END:VEVENT
BEGIN:VEVENT
DTSTART;TZID=America/Chicago:20250520T183000
DTEND;TZID=America/Chicago:20250520T193000
DTSTAMP:20260424T015649
CREATED:20250320T220532Z
LAST-MODIFIED:20250320T220532Z
UID:2609-1747765800-1747769400@www.coromandelweb.com
SUMMARY:Condo BOD Meeting
DESCRIPTION:Condo Association Board of Directors Meeting will be held via Zoom. \nPlease refer to the Board Meeting Calendar and look for e-mail blasts sent out the week of and day for call and notices and for the Zoom link.
URL:https://www.coromandelweb.com/event/condo-bod-meeting-4/
END:VEVENT
BEGIN:VEVENT
DTSTART;VALUE=DATE:20250524
DTEND;VALUE=DATE:20250525
DTSTAMP:20260424T015649
CREATED:20250318T142137Z
LAST-MODIFIED:20250318T142137Z
UID:2596-1748044800-1748131199@www.coromandelweb.com
SUMMARY:PRIVATE CLUBHOUSE RESERVATION
DESCRIPTION:The clubhouse party room will not be available for use due to a private clubhouse reservation on Saturday\, May 24\, 2025.
URL:https://www.coromandelweb.com/event/private-clubhouse-reservation-40/
END:VEVENT
BEGIN:VEVENT
DTSTART;VALUE=DATE:20250526
DTEND;VALUE=DATE:20250527
DTSTAMP:20260424T015649
CREATED:20250320T220737Z
LAST-MODIFIED:20250320T220737Z
UID:2613-1748217600-1748303999@www.coromandelweb.com
SUMMARY:Management Office Closed
DESCRIPTION:The Coromandel Management Office will be closed Monday\, May 26\, 2025 due the Memorial Day Holiday. \nThe office will be re-opened on Tuesday\, May 27\, 2025 at 8:30AM. \nHapy Memorial Day!
URL:https://www.coromandelweb.com/event/management-office-closed-3/
END:VEVENT
BEGIN:VEVENT
DTSTART;TZID=America/Chicago:20250527T183000
DTEND;TZID=America/Chicago:20250527T193000
DTSTAMP:20260424T015649
CREATED:20250320T220604Z
LAST-MODIFIED:20250320T220604Z
UID:2611-1748370600-1748374200@www.coromandelweb.com
SUMMARY:Umbrella BOD Meeting
DESCRIPTION:Umbrella Association Board of Directors Meeting will be held via Zoom. \nPlease refer to the Board Meeting Calendar and look for e-mail blasts sent out the week of and day for call and notices and for the Zoom link.
URL:https://www.coromandelweb.com/event/umbrella-bod-meeting-3/
END:VEVENT
BEGIN:VEVENT
DTSTART;TZID=America/Chicago:20250528T130000
DTEND;TZID=America/Chicago:20250528T210000
DTSTAMP:20260424T015649
CREATED:20250514T141256Z
LAST-MODIFIED:20250514T141256Z
UID:2643-1748437200-1748466000@www.coromandelweb.com
SUMMARY:PRIVATE CLUBHOUSE RESERVATION
DESCRIPTION:The clubhouse party room will not be available for use due to a private clubhouse reservation on Wednesday\, May 28 from 1:00PM to 9:00PM. \n\n\n\n\n Add to calendar
URL:https://www.coromandelweb.com/event/private-clubhouse-reservation-41/
END:VEVENT
END:VCALENDAR