BEGIN:VCALENDAR
VERSION:2.0
PRODID:-//Coromandel Community Associations - ECPv6.13.2.1//NONSGML v1.0//EN
CALSCALE:GREGORIAN
METHOD:PUBLISH
X-ORIGINAL-URL:https://www.coromandelweb.com
X-WR-CALDESC:Events for Coromandel Community Associations
REFRESH-INTERVAL;VALUE=DURATION:PT1H
X-Robots-Tag:noindex
X-PUBLISHED-TTL:PT1H
BEGIN:VTIMEZONE
TZID:America/Chicago
BEGIN:DAYLIGHT
TZOFFSETFROM:-0600
TZOFFSETTO:-0500
TZNAME:CDT
DTSTART:20250309T080000
END:DAYLIGHT
BEGIN:STANDARD
TZOFFSETFROM:-0500
TZOFFSETTO:-0600
TZNAME:CST
DTSTART:20251102T070000
END:STANDARD
END:VTIMEZONE
BEGIN:VEVENT
DTSTART;VALUE=DATE:20250901
DTEND;VALUE=DATE:20250902
DTSTAMP:20260423T190310
CREATED:20250807T171634Z
LAST-MODIFIED:20250807T171634Z
UID:2676-1756684800-1756771199@www.coromandelweb.com
SUMMARY:Coromandel Management Office Closed
DESCRIPTION:The Coromandel Management Office will be closed for the Labor Day Holiday on Monday\, September 1\, 2025. \nThe office will re-open on Tuesday\, September 2\, 2025 at 8:30AM.
URL:https://www.coromandelweb.com/event/coromandel-management-office-closed-6/
END:VEVENT
END:VCALENDAR