BEGIN:VCALENDAR
VERSION:2.0
PRODID:-//Coromandel Community Associations - ECPv6.13.2.1//NONSGML v1.0//EN
CALSCALE:GREGORIAN
METHOD:PUBLISH
X-WR-CALNAME:Coromandel Community Associations
X-ORIGINAL-URL:https://www.coromandelweb.com
X-WR-CALDESC:Events for Coromandel Community Associations
REFRESH-INTERVAL;VALUE=DURATION:PT1H
X-Robots-Tag:noindex
X-PUBLISHED-TTL:PT1H
BEGIN:VTIMEZONE
TZID:America/Chicago
BEGIN:DAYLIGHT
TZOFFSETFROM:-0600
TZOFFSETTO:-0500
TZNAME:CDT
DTSTART:20250309T080000
END:DAYLIGHT
BEGIN:STANDARD
TZOFFSETFROM:-0500
TZOFFSETTO:-0600
TZNAME:CST
DTSTART:20251102T070000
END:STANDARD
END:VTIMEZONE
BEGIN:VEVENT
DTSTART;VALUE=DATE:20251225
DTEND;VALUE=DATE:20251229
DTSTAMP:20260423T142620
CREATED:20251125T150108Z
LAST-MODIFIED:20251125T150108Z
UID:2746-1766620800-1766966399@www.coromandelweb.com
SUMMARY:Management Offices Closed
DESCRIPTION:The Coromandel and Braeside Management Offices will be closed due to the Christmas & Hanukkah Holidays beginning on Thursday\, December 25\, 2025 through Sunday\, December 28\, 2025. \nThe Management offices will be reopened on Monday\, December 29\, 2025 at 8:30AM. \nHave a very Merry Christmas & Happy Hanukkah!
URL:https://www.coromandelweb.com/event/management-offices-closed-4/
END:VEVENT
END:VCALENDAR