BEGIN:VCALENDAR
VERSION:2.0
PRODID:-//Coromandel Community Associations - ECPv6.13.2.1//NONSGML v1.0//EN
CALSCALE:GREGORIAN
METHOD:PUBLISH
X-ORIGINAL-URL:https://www.coromandelweb.com
X-WR-CALDESC:Events for Coromandel Community Associations
REFRESH-INTERVAL;VALUE=DURATION:PT1H
X-Robots-Tag:noindex
X-PUBLISHED-TTL:PT1H
BEGIN:VTIMEZONE
TZID:America/Chicago
BEGIN:DAYLIGHT
TZOFFSETFROM:-0600
TZOFFSETTO:-0500
TZNAME:CDT
DTSTART:20260308T080000
END:DAYLIGHT
BEGIN:STANDARD
TZOFFSETFROM:-0500
TZOFFSETTO:-0600
TZNAME:CST
DTSTART:20261101T070000
END:STANDARD
END:VTIMEZONE
BEGIN:VEVENT
DTSTART;VALUE=DATE:20260101
DTEND;VALUE=DATE:20260105
DTSTAMP:20260423T125417
CREATED:20251125T150241Z
LAST-MODIFIED:20251125T150617Z
UID:2748-1767225600-1767571199@www.coromandelweb.com
SUMMARY:Management Offices Closed
DESCRIPTION:The Coromandel and Braeside Management Offices will be closed due to the New Year holiday beginning on Thursday\, January 1\, 2026 through Sunday\, January 4\, 2026. \nThe Management offices will be reopened on Monday\, January 5\, 2026 at 8:30AM. \nHave a happy\, healthy New Year!
URL:https://www.coromandelweb.com/event/2748/
END:VEVENT
BEGIN:VEVENT
DTSTART;TZID=America/Chicago:20260103T110000
DTEND;TZID=America/Chicago:20260103T235900
DTSTAMP:20260423T125417
CREATED:20251230T170424Z
LAST-MODIFIED:20251230T170424Z
UID:2789-1767438000-1767484740@www.coromandelweb.com
SUMMARY:PRIVATE CLUBHOUSE RESERVATION
DESCRIPTION:The clubhouse party room will not be available for use due to a private clubhouse reservation on Saturday\, January 3\, 2026 – 11:00AM to Midnight.
URL:https://www.coromandelweb.com/event/private-clubhouse-reservation-50/
END:VEVENT
BEGIN:VEVENT
DTSTART;TZID=America/Chicago:20260108T080000
DTEND;TZID=America/Chicago:20260108T200000
DTSTAMP:20260423T125417
CREATED:20251230T170609Z
LAST-MODIFIED:20251230T170609Z
UID:2791-1767859200-1767902400@www.coromandelweb.com
SUMMARY:PRIVATE CLUBHOUSE RESERVATION
DESCRIPTION:The clubhouse party room will not be available for use due to a private clubhouse reservation on Thursday\, January 8\, 2026 – 8:00AM to 8:00PM.
URL:https://www.coromandelweb.com/event/private-clubhouse-reservation-51/
END:VEVENT
BEGIN:VEVENT
DTSTART;TZID=America/Chicago:20260110T100000
DTEND;TZID=America/Chicago:20260110T235900
DTSTAMP:20260423T125417
CREATED:20251016T132320Z
LAST-MODIFIED:20251016T132320Z
UID:2741-1768039200-1768089540@www.coromandelweb.com
SUMMARY:PRIVATE CLUBHOUSE RESERVATION
DESCRIPTION:The clubhouse party room will not be available for use due to a private clubhouse reservation on Saturday\, January 10\, 2026 – 10:00AM to Midnight.
URL:https://www.coromandelweb.com/event/private-clubhouse-reservation-48/
END:VEVENT
BEGIN:VEVENT
DTSTART;TZID=America/Chicago:20260124T080000
DTEND;TZID=America/Chicago:20260124T235900
DTSTAMP:20260423T125417
CREATED:20260114T164453Z
LAST-MODIFIED:20260114T164453Z
UID:2793-1769241600-1769299140@www.coromandelweb.com
SUMMARY:PRIVATE CLUBHOUSE RESERVATION
DESCRIPTION:The clubhouse party room will not be available for use due to a private clubhouse reservation on Saturday\, January 24\, 2026 – 8:00AM to Midnight.
URL:https://www.coromandelweb.com/event/private-clubhouse-reservation-52/
END:VEVENT
END:VCALENDAR